BEGIN:VCALENDAR
VERSION:2.0
PRODID:-//Ecole des Arts Ghassan Yammine - ECPv3.12.6//NONSGML v1.0//EN
CALSCALE:GREGORIAN
METHOD:PUBLISH
X-WR-CALNAME:Ecole des Arts Ghassan Yammine
X-ORIGINAL-URL:https://www.edagy.com
X-WR-CALDESC:Events for Ecole des Arts Ghassan Yammine
BEGIN:VEVENT
DTSTART:20160206T060000Z
DTEND:20160206T150000Z
DTSTAMP:20260421T133825Z
CREATED:20160206T101052Z
LAST-MODIFIED:20160206T101956Z
UID:3821-1454738400-1454770800@www.edagy.com
SUMMARY:This is a test event
DESCRIPTION:This is a test event
URL:https://www.edagy.com/event/this-is-a-test-event-2/
LOCATION:Beirut\, Lebanon
CATEGORIES:Events
END:VEVENT
END:VCALENDAR