BEGIN:VCALENDAR
VERSION:2.0
PRODID:-//Ecole des Arts Ghassan Yammine - ECPv3.12.6//NONSGML v1.0//EN
CALSCALE:GREGORIAN
METHOD:PUBLISH
X-WR-CALNAME:Ecole des Arts Ghassan Yammine
X-ORIGINAL-URL:https://www.edagy.com
X-WR-CALDESC:Events for Ecole des Arts Ghassan Yammine
BEGIN:VEVENT
DTSTART:20160327T050000Z
DTEND:20160327T140000Z
DTSTAMP:20260421T120502Z
CREATED:20160327T193615Z
LAST-MODIFIED:20160327T193615Z
UID:3834-1459054800-1459087200@www.edagy.com
SUMMARY:Affiliation with the Prestigious Birmingham University\, UK
DESCRIPTION:[caption id="attachment_3835" align="alignnone" width="300"] Affiliation Between Ecole des Arts Ghassan Yammine & The Prestigious Birmingham University\, UK (Music\, Singing\, Music Technology\, Composition\, Film Music\, Conducting\, Acting\, Painting\, Photography)[/caption]\n\n
URL:https://www.edagy.com/event/affiliation-with-the-prestigious-birmingham-university-uk/
END:VEVENT
END:VCALENDAR