BEGIN:VCALENDAR
VERSION:2.0
PRODID:-//Ecole des Arts Ghassan Yammine - ECPv3.12.6//NONSGML v1.0//EN
CALSCALE:GREGORIAN
METHOD:PUBLISH
X-WR-CALNAME:Ecole des Arts Ghassan Yammine
X-ORIGINAL-URL:https://www.edagy.com
X-WR-CALDESC:Events for Ecole des Arts Ghassan Yammine
BEGIN:VEVENT
DTSTART:20160402T130000Z
DTEND:20160403T170000Z
DTSTAMP:20260421T103851Z
CREATED:20160328T113814Z
LAST-MODIFIED:20160328T115019Z
UID:3859-1459602000-1459702800@www.edagy.com
SUMMARY:Painting Exhibition on April 2 & 3\, at Al Madina Theater - Hamra
DESCRIPTION:The Painting Department at EDAGY presents a Students Exhibition at Al Madina Theater\, Hamra on Saturday\, April 2 and on Sunday\, April 3 from 4:00 to 8:00PM.
URL:https://www.edagy.com/event/painting-exhibition-at-al-madina-theater-hamra-on-april-2-3/
END:VEVENT
END:VCALENDAR