BEGIN:VCALENDAR
VERSION:2.0
PRODID:-//Ecole des Arts Ghassan Yammine - ECPv3.12.6//NONSGML v1.0//EN
CALSCALE:GREGORIAN
METHOD:PUBLISH
X-WR-CALNAME:Ecole des Arts Ghassan Yammine
X-ORIGINAL-URL:https://www.edagy.com
X-WR-CALDESC:Events for Ecole des Arts Ghassan Yammine
BEGIN:VEVENT
DTSTART:20160417T133000Z
DTEND:20160417T170000Z
DTSTAMP:20260421T105530Z
CREATED:20160409T091824Z
LAST-MODIFIED:20160416T051039Z
UID:3862-1460899800-1460912400@www.edagy.com
SUMMARY:Talent Shows on Sunday\, April 17 @Jal El Dib Branch
DESCRIPTION:EDAGY presents 2 Talent Shows (Piano\, Violin\, Classical Guitar\, Acoustic Guitar\, Electric Guitar\, Cello\, Saxophone\,... )\, Cello Quartet\, Modern Music Band.\n\nOn Sunday\, April 17 starting 4:30PM at Jal El Dib branch.
URL:https://www.edagy.com/event/talent-shows-on-saturday-april-16-edagy/
CATEGORIES:Events
END:VEVENT
END:VCALENDAR